BEGIN:VCALENDAR
VERSION:2.0
PRODID:-//wp-events-plugin.com//7.2.3.1//EN
TZID:America/Chicago
X-WR-TIMEZONE:America/Chicago
BEGIN:VEVENT
UID:2-183@boisforte.com
DTSTART;TZID=America/Chicago:20260916T090000
DTEND;TZID=America/Chicago:20260916T110000
DTSTAMP:20260226T160810Z
URL:https://boisforte.com/news-events/events/rtc-meeting-2-2026-03-18-2026
 -04-15-2026-05-20-2026-06-17-2026-07-15-2026-08-19-2026-09-16/
SUMMARY:RTC Meeting
DESCRIPTION:Click here to join the meeting\n\nMeeting ID: 257 334 596 740\n
 Passcode: KPwEDR
END:VEVENT
BEGIN:VTIMEZONE
TZID:America/Chicago
X-LIC-LOCATION:America/Chicago
BEGIN:DAYLIGHT
DTSTART:20260308T030000
TZOFFSETFROM:-0600
TZOFFSETTO:-0500
TZNAME:CDT
END:DAYLIGHT
END:VTIMEZONE
END:VCALENDAR