BEGIN:VCALENDAR
VERSION:2.0
PRODID:-//wp-events-plugin.com//7.2.3.1//EN
TZID:America/Chicago
X-WR-TIMEZONE:America/Chicago
BEGIN:VEVENT
UID:2-186@boisforte.com
DTSTART;TZID=America/Chicago:20261216T090000
DTEND;TZID=America/Chicago:20261216T110000
DTSTAMP:20260226T160810Z
URL:https://boisforte.com/news-events/events/rtc-meeting-2-2026-03-18-2026
 -04-15-2026-05-20-2026-06-17-2026-07-15-2026-08-19-2026-09-16-2026-10-21-2
 026-11-18-2026-12-16/
SUMMARY:RTC Meeting
DESCRIPTION:Click here to join the meeting\n\nMeeting ID: 257 334 596 740\n
 Passcode: KPwEDR
END:VEVENT
BEGIN:VTIMEZONE
TZID:America/Chicago
X-LIC-LOCATION:America/Chicago
BEGIN:STANDARD
DTSTART:20261101T010000
TZOFFSETFROM:-0500
TZOFFSETTO:-0600
TZNAME:CST
END:STANDARD
END:VTIMEZONE
END:VCALENDAR