BEGIN:VCALENDAR
VERSION:2.0
PRODID:-//wp-events-plugin.com//7.2.3.1//EN
TZID:America/Chicago
X-WR-TIMEZONE:America/Chicago
BEGIN:VEVENT
UID:2-202@boisforte.com
DTSTART;TZID=America/Chicago:20260331T200000
DTEND;TZID=America/Chicago:20260331T230000
DTSTAMP:20260320T151008Z
URL:https://boisforte.com/news-events/events/primary-election-live-ballot-
 count/
SUMMARY:Primary Election Live Ballot Count
DESCRIPTION:Each Polling District will be live starting with Mpls-Urban at 
 8:05\, followed by Duluth-Urban\, Vermilion and then Nett Lake.
ATTACH;FMTTYPE=image/jpeg:https://boisforte.com/news-events/wp-content/upl
 oads/sites/2/2026/03/2026_0331-LIVEBALLOTCOUNT.png
LOCATION:https://teams.microsoft.com/meet/21263988261495?p=jlKtG4B4fZavNJhW
 37
END:VEVENT
BEGIN:VTIMEZONE
TZID:America/Chicago
X-LIC-LOCATION:America/Chicago
BEGIN:DAYLIGHT
DTSTART:20260308T030000
TZOFFSETFROM:-0600
TZOFFSETTO:-0500
TZNAME:CDT
END:DAYLIGHT
END:VTIMEZONE
END:VCALENDAR