BEGIN:VCALENDAR
VERSION:2.0
PRODID:-//wp-events-plugin.com//7.2.3.1//EN
TZID:America/Chicago
X-WR-TIMEZONE:America/Chicago
BEGIN:VEVENT
UID:2-213@boisforte.com
DTSTART;TZID=America/Chicago;VALUE=DATE:20261126
DTEND;TZID=America/Chicago;VALUE=DATE:20261127
DTSTAMP:20260320T154200Z
URL:https://boisforte.com/news-events/events/office-closure-thanksgiving-d
 ay-holiday/
SUMMARY:Office Closure - Thanksgiving Day holiday
DESCRIPTION:Offices closed all day
END:VEVENT
BEGIN:VTIMEZONE
TZID:America/Chicago
X-LIC-LOCATION:America/Chicago
BEGIN:STANDARD
DTSTART:20261101T010000
TZOFFSETFROM:-0500
TZOFFSETTO:-0600
TZNAME:CST
END:STANDARD
END:VTIMEZONE
END:VCALENDAR