BEGIN:VCALENDAR
VERSION:2.0
PRODID:-//wp-events-plugin.com//7.2.3.1//EN
TZID:America/Chicago
X-WR-TIMEZONE:America/Chicago
BEGIN:VEVENT
UID:2-210@boisforte.com
DTSTART;TZID=America/Chicago;VALUE=DATE:20260907
DTEND;TZID=America/Chicago;VALUE=DATE:20260908
DTSTAMP:20260320T153431Z
URL:https://boisforte.com/news-events/events/office-closure-labor-day-holi
 day/
SUMMARY:Office Closure - Labor Day Holiday
DESCRIPTION:Offices closed all day
END:VEVENT
BEGIN:VTIMEZONE
TZID:America/Chicago
X-LIC-LOCATION:America/Chicago
BEGIN:DAYLIGHT
DTSTART:20260308T030000
TZOFFSETFROM:-0600
TZOFFSETTO:-0500
TZNAME:CDT
END:DAYLIGHT
END:VTIMEZONE
END:VCALENDAR