BEGIN:VCALENDAR
VERSION:2.0
PRODID:-//wp-events-plugin.com//7.2.3.1//EN
TZID:America/Chicago
X-WR-TIMEZONE:America/Chicago
BEGIN:VEVENT
UID:2-161@boisforte.com
DTSTART;TZID=America/Chicago:20260221T100000
DTEND;TZID=America/Chicago:20260221T120000
DTSTAMP:20260218T182116Z
URL:https://boisforte.com/news-events/events/enrollment-event-mid-winter-p
 ow-wow/
SUMMARY:Enrollment Event: Mid-Winter Pow Wow
DESCRIPTION:Bois Forte Tribal Enrollment will be available at the Mid-Winte
 r Pow Wow at the Nett Lake Government Office to issue Bois Forte Tribal Id
 entification Cards.\nNo Appointment Needed\nPlease bring one of the follow
 ing to receive a Tribal ID:\n\n\n 	Original Certified Birth Certificate\n(
 No Photocopies)\n 	State Issued Driver's License\n(Not Expired)\n 	State I
 ssued Identification Card\n(Not Expired)\n 	Valid Passport\n\nFor name cha
 nges please bring legal documents.\nAny questions\, please contact Kathie 
 Holman\, Tribal Enrollment Coordinator at 218-757-3261\, ext. 1162 or kath
 ie.holman@boistorte-nsn.gov
LOCATION:Nett Lake Government Office\, 5344 Lakeshore Dr\, Nett Lake\, MN\,
  55772\, 
X-APPLE-STRUCTURED-LOCATION;VALUE=URI;X-ADDRESS=5344 Lakeshore Dr\, Nett La
 ke\, MN\, 55772\, ;X-APPLE-RADIUS=100;X-TITLE=Nett Lake Government Office:
 geo:0,0
END:VEVENT
BEGIN:VTIMEZONE
TZID:America/Chicago
X-LIC-LOCATION:America/Chicago
BEGIN:STANDARD
DTSTART:20251102T010000
TZOFFSETFROM:-0500
TZOFFSETTO:-0600
TZNAME:CST
END:STANDARD
END:VTIMEZONE
END:VCALENDAR